BEGIN:VCALENDAR
VERSION:2.0
PRODID:-//Sangha house NOLA - ECPv6.15.20//NONSGML v1.0//EN
CALSCALE:GREGORIAN
METHOD:PUBLISH
X-WR-CALNAME:Sangha house NOLA
X-ORIGINAL-URL:https://www.sanghahousenola.org
X-WR-CALDESC:Events for Sangha house NOLA
REFRESH-INTERVAL;VALUE=DURATION:PT1H
X-Robots-Tag:noindex
X-PUBLISHED-TTL:PT1H
BEGIN:VTIMEZONE
TZID:America/Chicago
BEGIN:DAYLIGHT
TZOFFSETFROM:-0600
TZOFFSETTO:-0500
TZNAME:CDT
DTSTART:20250309T080000
END:DAYLIGHT
BEGIN:STANDARD
TZOFFSETFROM:-0500
TZOFFSETTO:-0600
TZNAME:CST
DTSTART:20251102T070000
END:STANDARD
BEGIN:DAYLIGHT
TZOFFSETFROM:-0600
TZOFFSETTO:-0500
TZNAME:CDT
DTSTART:20260308T080000
END:DAYLIGHT
BEGIN:STANDARD
TZOFFSETFROM:-0500
TZOFFSETTO:-0600
TZNAME:CST
DTSTART:20261101T070000
END:STANDARD
BEGIN:DAYLIGHT
TZOFFSETFROM:-0600
TZOFFSETTO:-0500
TZNAME:CDT
DTSTART:20270314T080000
END:DAYLIGHT
BEGIN:STANDARD
TZOFFSETFROM:-0500
TZOFFSETTO:-0600
TZNAME:CST
DTSTART:20271107T070000
END:STANDARD
END:VTIMEZONE
BEGIN:VEVENT
DTSTART;TZID=America/Chicago:20260422T100000
DTEND;TZID=America/Chicago:20260422T120000
DTSTAMP:20260422T055851
CREATED:20260404T184001Z
LAST-MODIFIED:20260404T184001Z
UID:10002234-1776852000-1776859200@www.sanghahousenola.org
SUMMARY:Daily Garden Work Meditation
DESCRIPTION:
URL:https://www.sanghahousenola.org/event/daily-garden-work-meditation/2026-04-22/
LOCATION:Sangha House\, 2004 Lapeyrouses Street\, New Orleans\, Lousianna\, 70116\, United States
ATTACH;FMTTYPE=image/jpeg:https://www.sanghahousenola.org/wp-content/uploads/Daily-Garden-Work-Meditation-.jpg
ORGANIZER;CN="Sangha House":MAILTO:abbess@sanghahousenola.org
END:VEVENT
END:VCALENDAR